BEGIN:VCALENDAR
VERSION:2.0
PRODID:-//ChamberMaster//Event Calendar 2.0//EN
METHOD:PUBLISH
X-PUBLISHED-TTL:P3D
REFRESH-INTERVAL:P3D
CALSCALE:GREGORIAN
BEGIN:VEVENT
DTSTART:20150126T180000Z
DTEND:20150126T190000Z
X-MICROSOFT-CDO-ALLDAYEVENT:FALSE
SUMMARY:Cash Mob - Nizza Pizza
DESCRIPTION:Cash Mob at Nizza Pizza\n\n3930 Glade Rd.\, Suite 101\n\nColleyville\, TX  76034
X-ALT-DESC;FMTTYPE=text/html:Cash Mob at Nizza Pizza<br />\n3930 Glade Rd.\, Suite 101<br />\nColleyville\, TX&nbsp\; 76034
LOCATION:
UID:e.642.7503
SEQUENCE:3
DTSTAMP:20260421T141442Z
URL:https://business.colleyvillechamber.org/events/details/cash-mob-nizza-pizza-01-26-2015-7503
END:VEVENT

END:VCALENDAR
