BEGIN:VCALENDAR
VERSION:2.0
PRODID:-//ChamberMaster//Event Calendar 2.0//EN
METHOD:PUBLISH
X-PUBLISHED-TTL:P3D
REFRESH-INTERVAL:P3D
CALSCALE:GREGORIAN
BEGIN:VEVENT
DTSTART:20130625T170000Z
DTEND:20130625T180000Z
X-MICROSOFT-CDO-ALLDAYEVENT:FALSE
SUMMARY:Cash Mob - Red Barn Bar-B-Que
DESCRIPTION:
X-ALT-DESC;FMTTYPE=text/html:
LOCATION:4913 Colleyville Blvd. Colleyville\, TX 76034
UID:e.642.5672
SEQUENCE:3
DTSTAMP:20260422T222656Z
URL:https://business.colleyvillechamber.org/events/details/cash-mob-red-barn-bar-b-que-06-25-2013-5672
END:VEVENT

END:VCALENDAR
