BEGIN:VCALENDAR
VERSION:2.0
PRODID:-//ChamberMaster//Event Calendar 2.0//EN
METHOD:PUBLISH
X-PUBLISHED-TTL:P3D
REFRESH-INTERVAL:P3D
CALSCALE:GREGORIAN
BEGIN:VEVENT
DTSTART:20130220T174500Z
DTEND:20130220T190000Z
X-MICROSOFT-CDO-ALLDAYEVENT:FALSE
SUMMARY:Cash Mob - Village at Colleyville
DESCRIPTION:
X-ALT-DESC;FMTTYPE=text/html:
LOCATION:
UID:e.642.5184
SEQUENCE:3
DTSTAMP:20260423T034932Z
URL:https://business.colleyvillechamber.org/events/details/cash-mob-village-at-colleyville-02-20-2013-5184
END:VEVENT

END:VCALENDAR
