BEGIN:VCALENDAR
VERSION:2.0
PRODID:-//ChamberMaster//Event Calendar 2.0//EN
METHOD:PUBLISH
X-PUBLISHED-TTL:P3D
REFRESH-INTERVAL:P3D
CALSCALE:GREGORIAN
BEGIN:VEVENT
DTSTART:20140302T010000Z
DTEND:20140302T050000Z
X-MICROSOFT-CDO-ALLDAYEVENT:FALSE
SUMMARY:Casino Night at Good Shephard Catholic
DESCRIPTION:Good Shepherd Catholic Community Men's Club\n	\n		INVITES YOU TO ENJOY:\n	\n		Casino Night\n	\n		Saturday\, March 01\, 2014 7:00-11:00p\n	\n		1000 Tinker Road Colleyville\n	\n		Tickets: $35 per person\n	\n		Includes: $1\,000 in gaming chips\n	\n		$1\,000 in gaming chips\n	\n		Proceeds to benefit\n	\n		Holy Trinity Tuition Assistance Fund\n	\n		BlackJack   Craps - Roulette - Poker\n	\n		Slot Machines - Raffle Prizes\n	\n		BlackJack & Poker Tournament\n	\n		Food & Cocktails\n	\n		Opportunity to WIN A TELEVISION\n	\n		(Buy your ticket before Feb 22nd and receive an additional $500 in chips)\n	\n		BUY TICKETS ONLINE\n	\n		www.gscc.net\n	Click here to edit...
X-ALT-DESC;FMTTYPE=text/html:<div style="color: gray\;">\n	<p align="LEFT">\n		<span style="font-size: 16px\;"><font face="TimesNewRomanPSMT"><font face="TimesNewRomanPSMT">Good Shepherd Catholic Community Men&rsquo\;s Club</font></font></span></p>\n	<p align="LEFT">\n		<span style="font-size: 16px\;"><font face="TimesNewRomanPSMT"><font face="TimesNewRomanPSMT">INVITES YOU TO ENJOY:</font></font></span></p>\n	<p align="LEFT">\n		<span style="font-size: 16px\;"><i><font color="#ffffff" face="TimesNewRomanPS-ItalicMT"><font color="#ffffff" face="TimesNewRomanPS-ItalicMT"><font color="#ffffff" face="TimesNewRomanPS-ItalicMT">Casino Night</font></font></font></i></span></p>\n	<p align="LEFT">\n		<span style="font-size: 16px\;"><font face="TimesNewRomanPSMT"><font face="TimesNewRomanPSMT">Saturday\, March 01\, 2014 7:00-11:00p</font></font></span></p>\n	<p align="LEFT">\n		<span style="font-size: 16px\;"><font face="TimesNewRomanPSMT"><font face="TimesNewRomanPSMT">1000 Tinker Road Colleyville</font></font></span></p>\n	<p align="LEFT">\n		<span style="font-size: 16px\;"><font face="TimesNewRomanPSMT"><font face="TimesNewRomanPSMT">Tickets: $35 per person</font></font></span></p>\n	<p align="LEFT">\n		<span style="font-size: 16px\;"><font face="TimesNewRomanPSMT"><font face="TimesNewRomanPSMT">Includes: $1\,000 in gaming chips</font></font></span></p>\n	<p align="LEFT">\n		<span style="font-size: 16px\;"><font color="#ffffff" face="TimesNewRomanPSMT"><font color="#ffffff" face="TimesNewRomanPSMT"><font color="#ffffff" face="TimesNewRomanPSMT">$1\,000 in gaming chips</font></font></font></span></p>\n	<p align="LEFT">\n		<span style="font-size: 16px\;"><font face="TimesNewRomanPSMT"><font face="TimesNewRomanPSMT">Proceeds to benefit</font></font></span></p>\n	<p align="LEFT">\n		<span style="font-size: 16px\;"><font face="TimesNewRomanPSMT"><font face="TimesNewRomanPSMT">Holy Trinity Tuition Assistance Fund</font></font></span></p>\n	<p align="LEFT">\n		<span style="font-size: 16px\;"><b><font face="TimesNewRomanPS-BoldMT"><font face="TimesNewRomanPS-BoldMT">BlackJack &ndash\; Craps - Roulette - Poker</font></font></b></span></p>\n	<p align="LEFT">\n		<span style="font-size: 16px\;"><b><font face="TimesNewRomanPS-BoldMT"><font face="TimesNewRomanPS-BoldMT">Slot Machines - Raffle Prizes</font></font></b></span></p>\n	<p align="LEFT">\n		<span style="font-size: 16px\;"><b><font face="TimesNewRomanPS-BoldMT"><font face="TimesNewRomanPS-BoldMT">BlackJack &amp\; Poker Tournament</font></font></b></span></p>\n	<p align="LEFT">\n		<span style="font-size: 16px\;"><font face="TimesNewRomanPSMT"><font face="TimesNewRomanPSMT">Food &amp\; Cocktails</font></font></span></p>\n	<p align="LEFT">\n		<span style="font-size: 16px\;"><b><font face="TimesNewRomanPS-BoldMT"><font face="TimesNewRomanPS-BoldMT">Opportunity to WIN A TELEVISION</font></font></b></span></p>\n	<p align="LEFT">\n		<span style="font-size: 16px\;"><font face="TimesNewRomanPSMT"><font face="TimesNewRomanPSMT">(Buy your ticket before Feb 22nd and receive an additional $500 in chips)</font></font></span></p>\n	<p align="LEFT">\n		<span style="font-size: 16px\;"><font face="TimesNewRomanPSMT"><font face="TimesNewRomanPSMT">BUY TICKETS ONLINE</font></font></span></p>\n	<p>\n		<span style="font-size: 16px\;"><b><font face="TimesNewRomanPS-BoldMT"><font face="TimesNewRomanPS-BoldMT">www.gscc.net</font></font></b></span></p>\n	<span style="font-size: 16px\;">Click here to edit...</span></div>\n
LOCATION:
UID:e.642.6621
SEQUENCE:3
DTSTAMP:20260422T065803Z
URL:https://business.colleyvillechamber.org/events/details/casino-night-at-good-shephard-catholic-03-01-2014-6621
END:VEVENT

END:VCALENDAR
