BEGIN:VCALENDAR
VERSION:2.0
PRODID:-//ChamberMaster//Event Calendar 2.0//EN
METHOD:PUBLISH
X-PUBLISHED-TTL:P3D
REFRESH-INTERVAL:P3D
CALSCALE:GREGORIAN
BEGIN:VEVENT
DTSTART:20220823T170000Z
DTEND:20220823T180000Z
X-MICROSOFT-CDO-ALLDAYEVENT:FALSE
SUMMARY:CCFW Speaker Series: Resource Stabilization
DESCRIPTION:Resource Stabilization is one of CCFW's primary areas of impact. During the pandemic\, our community faced unprecedented obstacles\, including an increased need for rental assistance\, food security and additional community resources. Our community and clients are still feeling these pains\, as well as the rise of inflation. Join us on August 23rd to hear from our Director of Research and Evaluation\, Jennifer Strand\, about the importance of resource stabilization for the long-term well-being of our families.
X-ALT-DESC;FMTTYPE=text/html:<span style="font-family:calibri\,sans-serif"><span style="font-size:11.0pt">Resource Stabilization is one of CCFW&#39\;s primary areas of impact. During the pandemic\, our community faced unprecedented obstacles\, including an increased need for rental assistance\, food security and additional community resources. Our community and clients are still feeling these pains\, as well as the rise of inflation. Join us on August 23rd to hear from our Director of Research and Evaluation\, Jennifer Strand\, about the importance of resource stabilization for the long-term well-being of our families.&nbsp\;</span></span>
LOCATION:Catholic Charities Fort Worth Northeast Campus 6125 Colleyville Boulevard Colleyville\, TX 76034
UID:e.642.26596
SEQUENCE:3
DTSTAMP:20260424T210400Z
URL:https://business.colleyvillechamber.org/events/details/ccfw-speaker-series-resource-stabilization-26596
END:VEVENT

END:VCALENDAR
