BEGIN:VCALENDAR
VERSION:2.0
PRODID:-//ChamberMaster//Event Calendar 2.0//EN
METHOD:PUBLISH
X-PUBLISHED-TTL:P3D
REFRESH-INTERVAL:P3D
CALSCALE:GREGORIAN
BEGIN:VEVENT
DTSTART;VALUE=DATE:20140328
DTEND;VALUE=DATE:20140329
TRANSP:TRANSPARENT
X-MICROSOFT-CDO-ALLDAYEVENT:TRUE
SUMMARY:CEC Annual Golf Classic
DESCRIPTION:Join us for the CEC Annual Golf Classic Friday\, March 28th at Iron Horse Golf Course.  All proceeds benefit the many programs offered by the CEC.\n\n\n	\n		Great sponsorships with valuable marketing benefits available at several levels\n	\n		Prizes for skill\n	\n		Putting contest\n\nSign-up soon to secure a spot!\n\n\n\nwww.cecgolfclassic.com
X-ALT-DESC;FMTTYPE=text/html:Join us for the CEC Annual Golf Classic Friday\, March 28th at Iron Horse Golf Course.&nbsp\; All proceeds benefit the many programs offered by the CEC.<br />\n<ul>\n	<li>\n		Great sponsorships with valuable marketing benefits available at several levels</li>\n	<li>\n		Prizes for skill</li>\n	<li>\n		Putting contest</li>\n</ul>\nSign-up soon to secure a spot!<br />\n<br />\nwww.cecgolfclassic.com&nbsp\;&nbsp\;&nbsp\;<br />\n
LOCATION:Iron Horse Golf Course 6200 Skylark Circle\, North Richland Hills\, Texas
UID:e.642.6619
SEQUENCE:3
DTSTAMP:20260422T065700Z
URL:https://business.colleyvillechamber.org/events/details/cec-annual-golf-classic-03-28-2014-6619
END:VEVENT

END:VCALENDAR
