BEGIN:VCALENDAR
VERSION:2.0
PRODID:-//ChamberMaster//Event Calendar 2.0//EN
METHOD:PUBLISH
X-PUBLISHED-TTL:P3D
REFRESH-INTERVAL:P3D
CALSCALE:GREGORIAN
BEGIN:VEVENT
DTSTART:20150417T183000Z
DTEND:20150418T010000Z
X-MICROSOFT-CDO-ALLDAYEVENT:FALSE
SUMMARY:CEC Golf Classic
DESCRIPTION:Iron Horse Golf Course\n\n1:30 pm Shotgun Start
X-ALT-DESC;FMTTYPE=text/html:Iron Horse Golf Course<br />\n1:30 pm Shotgun Start
LOCATION:
UID:e.642.7570
SEQUENCE:3
DTSTAMP:20260421T082323Z
URL:https://business.colleyvillechamber.org/events/details/cec-golf-classic-04-17-2015-7570
END:VEVENT

END:VCALENDAR
