BEGIN:VCALENDAR
VERSION:2.0
PRODID:-//ChamberMaster//Event Calendar 2.0//EN
METHOD:PUBLISH
X-PUBLISHED-TTL:P3D
REFRESH-INTERVAL:P3D
CALSCALE:GREGORIAN
BEGIN:VEVENT
DTSTART:20240926T223000Z
DTEND:20240927T030000Z
X-MICROSOFT-CDO-ALLDAYEVENT:FALSE
SUMMARY:CEC Love & Hope Gala
DESCRIPTION:Join us for an extraordinary evening of hope\, inspiration and of course fun! The mission of the Community Enrichment Center (CEC) is transforming lives by restoring hope. For over 35 years\, the CEC has provided food and other basic necessities along with critical life change and spiritual growth for homeless families and domestic violence victims\, a sense of community for senior adults\, education\, employment and financial coaching\, and affordable housing. After dinner\, take part in a little casino fun including craps\, blackjack\, poker and even slot machines all for a good cause of course! We will have great items in our silent and live auctions and you can try your luck at the wine pull and prize wheel. There will be great casino prizes and something for everyone! With your help\, the CEC can continue to transform lives by restoring hope.
X-ALT-DESC;FMTTYPE=text/html:Join us for an extraordinary evening of hope\, inspiration and of course fun! The mission of the Community Enrichment Center (CEC) is transforming lives by restoring hope. For over 35 years\, the CEC has provided food and other basic necessities along with critical life change and spiritual growth for homeless families and domestic violence victims\, a sense of community for senior adults\, education\, employment and financial coaching\, and affordable housing. After dinner\, take part in a little casino fun including craps\, blackjack\, poker and even slot machines&hellip\;all for a good cause of course! We will have great items in our silent and live auctions and you can try your luck at the wine pull and prize wheel. There will be great casino prizes and something for everyone! With your help\, the CEC can continue to transform lives by restoring hope.
LOCATION:Hurst Conference Center\, 1601 Campus Dr.\, Hurst\, TX 76054
UID:e.642.30600
SEQUENCE:3
DTSTAMP:20260422T143954Z
URL:https://business.colleyvillechamber.org/events/details/cec-love-hope-gala-09-26-2024-30600
END:VEVENT

END:VCALENDAR
