BEGIN:VCALENDAR
VERSION:2.0
PRODID:-//ChamberMaster//Event Calendar 2.0//EN
METHOD:PUBLISH
X-PUBLISHED-TTL:P3D
REFRESH-INTERVAL:P3D
CALSCALE:GREGORIAN
BEGIN:VEVENT
DTSTART:20240808T121500Z
DTEND:20240808T133000Z
X-MICROSOFT-CDO-ALLDAYEVENT:FALSE
SUMMARY:CEO
DESCRIPTION:Colleyville Executive Group
X-ALT-DESC;FMTTYPE=text/html:Colleyville Executive Group
LOCATION:Colleyville Center 5301 Riverwalk Dr. Colleyville\, TX 76034
UID:e.642.30492
SEQUENCE:3
DTSTAMP:20260423T190921Z
URL:https://business.colleyvillechamber.org/events/details/ceo-08-08-2024-30492
END:VEVENT

END:VCALENDAR
