BEGIN:VCALENDAR
VERSION:2.0
PRODID:-//ChamberMaster//Event Calendar 2.0//EN
METHOD:PUBLISH
X-PUBLISHED-TTL:P3D
REFRESH-INTERVAL:P3D
CALSCALE:GREGORIAN
BEGIN:VEVENT
DTSTART:20140612T121500Z
DTEND:20140612T134500Z
X-MICROSOFT-CDO-ALLDAYEVENT:FALSE
SUMMARY:CEO Hosts Think Cre8tive Presentation
DESCRIPTION:The Colleyville Executive Organization (CEO) will be hosting Chris Wielinski of Think Cr8tive on Thursday\, June 12th from 7:15am - 8:45am at Colleyville Center according to Rob Rutherford\, CEO Co-Founder and past Chairman.\n\n \n\nChris Wielinski\, a Colleyville native and a graduate of Grapevine High School\, will be the program speaker at The Colleyville Executive Organization (CEO).  He will be speaking about the importance of online marketing and social media for local small and large companies.  \n\n \n\nMr. Wielinski currently serves as the President and CEO of Think Cre8tive in Grapevine\, Texas.  He has his Bachelor of Arts in Political Science and Marketing Minor from Texas Christian University in Fort Worth\, Texas.  Mr. Wielinski has years of experience in creating\, managing\, and manipulating traditional and digital advertising strategies from multiple positions he has held in the past.  In 2012\, he started Think Cre8tive so that he could combine all of his experience under one roof.  Think Cre8tive is a full-service advertising\, marketing and design agency that specializes in complete advertising strategies.  In 2013\, the agency was recognized as the Most Innovative Small Agency in Dallas/Fort Worth.  Mr. Wielinski also founded as well as plays a crucial role in the production of Boarders Magazine in 2011\, a publication that serves the inland surf community. \n\n \n\n "We look forward to seeing everyone on Thursday\, June 12\, 2014\," Rutherford said.
X-ALT-DESC;FMTTYPE=text/html:<span style="font-size: 11pt\;"><span style="font-family: arial\,sans-serif\;">The Colleyville Executive Organization (CEO) will be hosting Chris Wielinski of Think Cr8tive on Thursday\, June 12<sup>th</sup> from 7:15am - 8:45am at Colleyville Center according to Rob Rutherford\, CEO Co-Founder and past Chairman.</span></span><br />\n&nbsp\;<br />\n<span style="font-size: 11pt\;"><span style="font-family: arial\,sans-serif\;">Chris Wielinski\, a Colleyville native and a graduate of Grapevine High School</span></span><span style="font-size: 11pt\;"><span style="font-family: times new roman\;">\,</span></span><span style="font-size: 11pt\;"><span style="font-family: arial\,sans-serif\;">&nbsp\;will be the program speaker at </span></span><span style="font-size: 11pt\;"><span style="font-family: arial\,sans-serif\;">The Colleyville Executive Organization (CEO).&nbsp\; He will be speaking about the importance of online marketing and social media for local small and large companies. &nbsp\;</span></span><br />\n&nbsp\;<br />\n<span style="font-size: 11pt\;"><span style="font-family: arial\,sans-serif\;">Mr. Wielinski currently serves as the President and CEO of Think Cre8tive in Grapevine\, Texas.&nbsp\; He has his Bachelor of Arts in Political Science and Marketing Minor from Texas Christian University in Fort Worth\, Texas. &nbsp\;Mr. Wielinski has years of experience in creating\, managing\, and manipulating traditional and digital advertising strategies from multiple positions he has held in the past. &nbsp\;In 2012\, he started Think Cre8tive so that he could combine all of his experience under one roof. &nbsp\;Think Cre8tive is a full-service advertising\, marketing and design agency that specializes in complete advertising strategies. &nbsp\;In 2013\, the agency was recognized as the Most Innovative Small Agency in Dallas/Fort Worth. &nbsp\;Mr. Wielinski also founded as well as plays a crucial role in the production of Boarders Magazine in 2011\, a publication that serves the inland surf community. </span></span><br />\n&nbsp\;<br />\n<span style="font-size: 11pt\;"><span style="font-family: arial\,sans-serif\;">&nbsp\;&ldquo\;We look forward to seeing everyone on Thursday\, June 12\, 2014\,&rdquo\; Rutherford said.</span></span><br />\n<br />\n&nbsp\;<br />\n&nbsp\;
LOCATION:Colleyville Center 5301 Riverwalk Drive Colleyville\, TX 76034
UID:e.642.6891
SEQUENCE:3
DTSTAMP:20260422T013552Z
URL:https://business.colleyvillechamber.org/events/details/ceo-hosts-think-cre8tive-presentation-06-12-2014-6891
END:VEVENT

END:VCALENDAR
