BEGIN:VCALENDAR
VERSION:2.0
PRODID:-//ChamberMaster//Event Calendar 2.0//EN
METHOD:PUBLISH
X-PUBLISHED-TTL:P3D
REFRESH-INTERVAL:P3D
CALSCALE:GREGORIAN
BEGIN:VEVENT
DTSTART;VALUE=DATE:20150525
DTEND;VALUE=DATE:20150526
TRANSP:TRANSPARENT
X-MICROSOFT-CDO-ALLDAYEVENT:TRUE
SUMMARY:Chamber Closed - Memorial Day
DESCRIPTION:
X-ALT-DESC;FMTTYPE=text/html:
LOCATION:
UID:e.642.7476
SEQUENCE:3
DTSTAMP:20260421T084423Z
URL:https://business.colleyvillechamber.org/events/details/chamber-closed-memorial-day-05-25-2015-7476
END:VEVENT

END:VCALENDAR
