BEGIN:VCALENDAR
VERSION:2.0
PRODID:-//ChamberMaster//Event Calendar 2.0//EN
METHOD:PUBLISH
X-PUBLISHED-TTL:P3D
REFRESH-INTERVAL:P3D
CALSCALE:GREGORIAN
BEGIN:VEVENT
DTSTART;VALUE=DATE:20131114
DTEND;VALUE=DATE:20131115
TRANSP:TRANSPARENT
X-MICROSOFT-CDO-ALLDAYEVENT:TRUE
SUMMARY:Chamber Member Car Dealership Day
DESCRIPTION:IN THE MARKET FOR A NEW CAR THIS YEAR?\n\n\n\n... then don't miss out on Chamber Dealership Day all day on Thursday\, November 14th!\n\n\n\nArea Chamber Dealerships are rolling out the red carpet for Chamber members to make your next car experience your best yet.  Whether you want to just kick the tires\, test drive new models or take one home\, this day is your day to be treated like family by your fellow Chamber member car dealers.\n\n\n\nAny employee of a Chamber member company is welcome to take advantage of this day at participating dealerships.  The dealerships will be giving the royal treatment to Chamber members including special services\, refreshments and offers exclusive to Chamber members..\n\n\n\nSAVE THE DATE and we will post the participating dealerships and their specials as the date gets closer.\n\n\n\nCall the Colleyville Chamber for additional details: 817.488.7148.
X-ALT-DESC;FMTTYPE=text/html:<span style="font-size: 14px\;"><span style="font-family: arial\;"><strong><span style="color: rgb(165\, 42\, 42)\;">IN THE MARKET FOR A NEW CAR THIS YEAR?</span></strong><br />\n<br />\n... then don&#39\;t miss out on Chamber Dealership Day all day on Thursday\, November 14th!<br />\n<br />\nArea Chamber Dealerships are rolling out the red carpet for Chamber members to make your next car experience your best yet.&nbsp\; Whether you want to just kick the tires\, test drive new models or take one home\, this day is your day to be treated like family by your fellow Chamber member car dealers.<br />\n<br />\nAny employee of a Chamber member company is welcome to take advantage of this day at participating dealerships.&nbsp\; The dealerships will be giving the royal treatment to Chamber members including special services\, refreshments and offers exclusive to Chamber members..<br />\n<br />\n<span style="color: rgb(0\, 128\, 0)\;"><strong>SAVE THE DATE</strong></span> and we will post the participating dealerships and their specials as the date gets closer.<br />\n<br />\nCall the Colleyville Chamber for additional details: 817.488.7148.</span></span>
LOCATION:
UID:e.642.5978
SEQUENCE:3
DTSTAMP:20260422T130811Z
URL:https://business.colleyvillechamber.org/events/details/chamber-member-car-dealership-day-11-14-2013-5978
END:VEVENT

END:VCALENDAR
