BEGIN:VCALENDAR
VERSION:2.0
PRODID:-//ChamberMaster//Event Calendar 2.0//EN
METHOD:PUBLISH
X-PUBLISHED-TTL:P3D
REFRESH-INTERVAL:P3D
CALSCALE:GREGORIAN
BEGIN:VEVENT
DTSTART:20140327T150000Z
DTEND:20140327T190000Z
X-MICROSOFT-CDO-ALLDAYEVENT:FALSE
SUMMARY:Child Safety Seat Checkpoint
DESCRIPTION:Is your child seat installed correctly? Come find out at the Child Safety Seat Checkpoint. Representatives from the City of Hurst and the Inter-Agency Child Safety Seat Task Force will be on hand to answer any child seat questions you may have or to ensure that your little ones are buckled in safely. \n\n\n\nThe event will take place on Thursday\, March 27th from 10 am to 2 pm in the Southwest corner of the Nordstrom's parking lot.
X-ALT-DESC;FMTTYPE=text/html:Is your child seat installed correctly? Come find out at the Child Safety Seat Checkpoint. Representatives from the City of Hurst and the Inter-Agency Child Safety Seat Task Force will be on hand to answer any child seat questions you may have or to ensure that your little ones are buckled in safely.&nbsp\;<br />\n<br />\nThe event will take place on Thursday\, March 27th from 10 am to 2 pm in the Southwest corner of the Nordstrom&#39\;s parking lot.
LOCATION:Southwest corner of the Nordstrom parking lot
UID:e.642.6855
SEQUENCE:3
DTSTAMP:20260422T065700Z
URL:https://business.colleyvillechamber.org/events/details/child-safety-seat-checkpoint-03-27-2014-6855
END:VEVENT

END:VCALENDAR
