BEGIN:VCALENDAR
VERSION:2.0
PRODID:-//ChamberMaster//Event Calendar 2.0//EN
METHOD:PUBLISH
X-PUBLISHED-TTL:P3D
REFRESH-INTERVAL:P3D
CALSCALE:GREGORIAN
BEGIN:VEVENT
DTSTART:20141111T233000Z
DTEND:20141112T020000Z
X-MICROSOFT-CDO-ALLDAYEVENT:FALSE
SUMMARY:Chili Cook Off
DESCRIPTION:22nd Annual Chili Cook Off\n\nEnjoy chili tasting\, live music and networking
X-ALT-DESC;FMTTYPE=text/html:22nd Annual Chili Cook Off<br />\nEnjoy chili tasting\, live music and networking
LOCATION:Classic Chevrolet 2501 William D. Tate Grapevine\, TX
UID:e.642.7028
SEQUENCE:3
DTSTAMP:20260421T171853Z
URL:https://business.colleyvillechamber.org/events/details/chili-cook-off-11-11-2014-7028
END:VEVENT

END:VCALENDAR
