BEGIN:VCALENDAR
VERSION:2.0
PRODID:-//ChamberMaster//Event Calendar 2.0//EN
METHOD:PUBLISH
X-PUBLISHED-TTL:P3D
REFRESH-INTERVAL:P3D
CALSCALE:GREGORIAN
BEGIN:VEVENT
DTSTART:20130123T180000Z
DTEND:20130123T190000Z
X-MICROSOFT-CDO-ALLDAYEVENT:FALSE
SUMMARY:Chronic / Stealth Infection Lunch and Learn
DESCRIPTION:This month's Lunch and Learn topic is chronic fatigue syndrome\, fibromyalgia and other chronic illnesses and infections. If you experience brain fog\, memory issues\, and unexplained pain or always feel tired then you don't want to miss this event!
X-ALT-DESC;FMTTYPE=text/html:<p style="text-align: justify\; line-height: 200%\;">\n	<span style="line-height: 200%\; font-family: &quot\;century gothic&quot\;\; font-size: 10pt\;">This month&rsquo\;s Lunch and Learn topic is chronic fatigue syndrome\, fibromyalgia and other chronic illnesses and infections. If you experience brain fog\, memory issues\, and unexplained pain or always feel tired then you don&rsquo\;t want to miss this event!</span></p>\n
LOCATION:Kotsanis Institute 2260 Pool Road Grapevine\, Texas 76051
UID:e.642.5163
SEQUENCE:3
DTSTAMP:20260423T053612Z
URL:https://business.colleyvillechamber.org/events/details/chronic-stealth-infection-lunch-and-learn-01-23-2013-5163
END:VEVENT

END:VCALENDAR
