BEGIN:VCALENDAR
VERSION:2.0
PRODID:-//ChamberMaster//Event Calendar 2.0//EN
METHOD:PUBLISH
X-PUBLISHED-TTL:P3D
REFRESH-INTERVAL:P3D
CALSCALE:GREGORIAN
BEGIN:VEVENT
DTSTART:20220803T003000Z
DTEND:20220803T020000Z
X-MICROSOFT-CDO-ALLDAYEVENT:FALSE
SUMMARY:City Council Meeting
DESCRIPTION:City Council meetings begin at 7:30 p.m. in the Council Chambers on the third floor of City Hall following a City Council worksession. For more information visit the Public Meetings webpage.
X-ALT-DESC;FMTTYPE=text/html:City Council meetings begin at 7:30 p.m. in the Council Chambers on the third floor of City Hall following a City Council worksession. For more information visit the Public Meetings webpage.
LOCATION:City Hall 100 Main Street Colleyville\, Texas 76034
UID:e.642.26533
SEQUENCE:3
DTSTAMP:20260424T211039Z
URL:https://business.colleyvillechamber.org/events/details/city-council-meeting-08-02-2022-26533
END:VEVENT

END:VCALENDAR
