BEGIN:VCALENDAR
VERSION:2.0
PRODID:-//ChamberMaster//Event Calendar 2.0//EN
METHOD:PUBLISH
X-PUBLISHED-TTL:P3D
REFRESH-INTERVAL:P3D
CALSCALE:GREGORIAN
BEGIN:VEVENT
DTSTART:20240314T160000Z
DTEND:20240314T170000Z
X-MICROSOFT-CDO-ALLDAYEVENT:FALSE
SUMMARY:CITY SLICKERS COMMITTE MEETING
DESCRIPTION:We would be happy to have you join the team for the City Slickers Committee meeting on Thursday March 14th\, 2024.
X-ALT-DESC;FMTTYPE=text/html:We would be happy to have you join the team for the City Slickers Committee meeting on Thursday March 14th\, 2024.
LOCATION:Colleyville Chamber 5601 Colleyville Blvd\, Colleyville\, TX 76034
UID:e.642.30085
SEQUENCE:3
DTSTAMP:20260423T121859Z
URL:https://business.colleyvillechamber.org/events/details/city-slickers-committe-meeting-30085
END:VEVENT

END:VCALENDAR
