BEGIN:VCALENDAR
VERSION:2.0
PRODID:-//ChamberMaster//Event Calendar 2.0//EN
METHOD:PUBLISH
X-PUBLISHED-TTL:P3D
REFRESH-INTERVAL:P3D
CALSCALE:GREGORIAN
BEGIN:VEVENT
DTSTART:20240718T150000Z
DTEND:20240719T040000Z
X-MICROSOFT-CDO-ALLDAYEVENT:FALSE
SUMMARY:CITY SLICKERS COMMITTE MEETING
DESCRIPTION:We would be happy to have you join the team for the City Slickers Committee meeting on Thursday\, July 18th\, 2024.
X-ALT-DESC;FMTTYPE=text/html:We would be happy to have you join the team for the City Slickers Committee meeting on Thursday\, July 18th\, 2024.
LOCATION:Colleyville Chamber 5601 Colleyville Blvd\, Colleyville\, TX 76034
UID:e.642.30597
SEQUENCE:3
DTSTAMP:20260423T071556Z
URL:https://business.colleyvillechamber.org/events/details/city-slickers-committe-meeting-30597
END:VEVENT

END:VCALENDAR
