BEGIN:VCALENDAR
VERSION:2.0
PRODID:-//ChamberMaster//Event Calendar 2.0//EN
METHOD:PUBLISH
X-PUBLISHED-TTL:P3D
REFRESH-INTERVAL:P3D
CALSCALE:GREGORIAN
BEGIN:VEVENT
DTSTART:20240716T153000Z
DTEND:20240716T163000Z
X-MICROSOFT-CDO-ALLDAYEVENT:FALSE
SUMMARY:CITY SLICKERS COMMITTEE MEETING
DESCRIPTION:Executive Lead Planning Committee Meeting for City Slickers
X-ALT-DESC;FMTTYPE=text/html:Executive Lead Planning Committee Meeting for City Slickers
LOCATION:Colleyville Chamber
UID:e.642.31003
SEQUENCE:3
DTSTAMP:20260423T074025Z
URL:https://business.colleyvillechamber.org/events/details/city-slickers-committee-meeting-31003
END:VEVENT

END:VCALENDAR
