BEGIN:VCALENDAR
VERSION:2.0
PRODID:-//ChamberMaster//Event Calendar 2.0//EN
METHOD:PUBLISH
X-PUBLISHED-TTL:P3D
REFRESH-INTERVAL:P3D
CALSCALE:GREGORIAN
BEGIN:VEVENT
DTSTART:20130326T220000Z
DTEND:20130327T000000Z
X-MICROSOFT-CDO-ALLDAYEVENT:FALSE
SUMMARY:City Slickers Gold Rush Reception
DESCRIPTION:Donate one auction item and join us in preparing for the excitement of City Slickers 2013!  The first 20 guests to arrive with an auction item will receive a JR's Steakhouse or JR's Grill voucher toward a 25% discount on dinner ticket.\n\nDiscount good through August 31\, 2013.  Some restrictions apply.
X-ALT-DESC;FMTTYPE=text/html:Donate one auction item and join us in preparing for the excitement of City Slickers 2013!&nbsp\; The first 20 guests to arrive with an auction item will receive a JR&#39\;s Steakhouse or JR&#39\;s Grill voucher toward a 25% discount on dinner ticket.<br />\nDiscount good through August 31\, 2013.&nbsp\; Some restrictions apply. 
LOCATION:JR's Steakhouse 5400 Highway 121\, Colleyville\, TX 76034 \, Co\,
UID:e.642.5186
SEQUENCE:3
DTSTAMP:20260423T033959Z
URL:https://business.colleyvillechamber.org/events/details/city-slickers-gold-rush-reception-03-26-2013-5186
END:VEVENT

END:VCALENDAR
