BEGIN:VCALENDAR
VERSION:2.0
PRODID:-//ChamberMaster//Event Calendar 2.0//EN
METHOD:PUBLISH
X-PUBLISHED-TTL:P3D
REFRESH-INTERVAL:P3D
CALSCALE:GREGORIAN
BEGIN:VEVENT
DTSTART:20140401T223000Z
DTEND:20140401T233000Z
X-MICROSOFT-CDO-ALLDAYEVENT:FALSE
SUMMARY:Classic Chevrolet CNG Station Ribbon Cutting
DESCRIPTION:Classic Chevrolet CNG Station Grand Opening and Ribbon Cutting\n\nA multi-chamber\, multi-city celebration of the latest clean fuel station in Northeast Tarrant County. \n\n\n\nJoin us as we celebrate Classic Chevrolet doing their share for cleaner air in our region!
X-ALT-DESC;FMTTYPE=text/html:Classic Chevrolet CNG Station Grand Opening and Ribbon Cutting<br />\nA multi-chamber\, multi-city celebration of the latest clean fuel station in Northeast Tarrant County.&nbsp\;<br />\n<br />\nJoin us as we celebrate Classic Chevrolet doing their share for cleaner air in our region!
LOCATION:Classic Chevrolet 2501-D William D Tate Hwy 121 at Stone Myers Parkway Grapevine Texas 76051
UID:e.642.6847
SEQUENCE:3
DTSTAMP:20260422T052313Z
URL:https://business.colleyvillechamber.org/events/details/classic-chevrolet-cng-station-ribbon-cutting-04-01-2014-6847
END:VEVENT

END:VCALENDAR
