BEGIN:VCALENDAR
VERSION:2.0
PRODID:-//ChamberMaster//Event Calendar 2.0//EN
METHOD:PUBLISH
X-PUBLISHED-TTL:P3D
REFRESH-INTERVAL:P3D
CALSCALE:GREGORIAN
BEGIN:VEVENT
DTSTART:20121118T013000Z
DTEND:20121118T030000Z
X-MICROSOFT-CDO-ALLDAYEVENT:FALSE
SUMMARY:Classical Piano Concert - Elena Tsvetkova
DESCRIPTION:Come hear an internationally known pianist at a classical piano concert November 17\, 2012\, in Colleyville\, Texas. Elena Tsvetkova\, who has performed all over the world\, will present a solo concert featuring the composers: Ravel\, Couperin\, Milhaud\, and Schubert. Click here to edit...
X-ALT-DESC;FMTTYPE=text/html:<div style="color: gray">\n	Come hear an internationally known pianist at a classical piano concert November 17\, 2012\, in Colleyville\, Texas. <a href="http://www.pianoconcert1117.com/Classical_Piano_Concert_Elena_Tsvetkova_Colleyville_TX.html" target="_self"><font color="#920000">Elena Tsvetkova</font></a>\, who has performed all over the world\, will present a solo concert featuring the composers: Ravel\, Couperin\, Milhaud\, and Schubert.<span _fck_bookmark="1" style="display: none">&nbsp\;</span>Click here to edit...</div>\n
LOCATION:Crown of Life 6605 Pleasant Run Road Colleyville\, TX 76034
UID:e.642.5115
SEQUENCE:3
DTSTAMP:20260423T090503Z
URL:https://business.colleyvillechamber.org/events/details/classical-piano-concert-elena-tsvetkova-11-17-2012-5115
END:VEVENT

END:VCALENDAR
