BEGIN:VCALENDAR
VERSION:2.0
PRODID:-//ChamberMaster//Event Calendar 2.0//EN
METHOD:PUBLISH
X-PUBLISHED-TTL:P3D
REFRESH-INTERVAL:P3D
CALSCALE:GREGORIAN
BEGIN:VEVENT
DTSTART:20140906T150000Z
DTEND:20140907T030000Z
X-MICROSOFT-CDO-ALLDAYEVENT:FALSE
SUMMARY:Clock-Con - In Store Comic/Game/Collectible Convention
DESCRIPTION:Join us for the 1st Clockwork Gamer Convention right inside the store. Browse the unique and rare finds in our convention area and enjoy 10% off everything else in the store!\n\n\n\nDon't miss it!\n\n\n\nClockwork Gamer\n\n5611 Colleyville Blvd #160\n\nColleyville\, TX 76034\n\nwww.clockworkgamer.com
X-ALT-DESC;FMTTYPE=text/html:Join us for the 1st Clockwork Gamer Convention right inside the store. Browse the unique and rare finds in our convention area and enjoy 10% off everything else in the store!<br />\n<br />\nDon&#39\;t miss it!<br />\n<br />\nClockwork Gamer<br />\n5611 Colleyville Blvd #160<br />\nColleyville\, TX 76034<br />\n<a href="http://www.clockworkgamer.com">www.clockworkgamer.com</a>
LOCATION:Clockwork Gamer 5611 Colleyville Blvd #160 Colleyville\, TX 76034
UID:e.642.6938
SEQUENCE:3
DTSTAMP:20260421T205309Z
URL:https://business.colleyvillechamber.org/events/details/clock-con-in-store-comic-game-collectible-convention-09-06-2014-6938
END:VEVENT

END:VCALENDAR
