BEGIN:VCALENDAR
VERSION:2.0
PRODID:-//ChamberMaster//Event Calendar 2.0//EN
METHOD:PUBLISH
X-PUBLISHED-TTL:P3D
REFRESH-INTERVAL:P3D
CALSCALE:GREGORIAN
BEGIN:VEVENT
DTSTART:20140823T220000Z
DTEND:20140824T030000Z
X-MICROSOFT-CDO-ALLDAYEVENT:FALSE
SUMMARY:Clockwork Gamer Friends & Family Game Day
DESCRIPTION:We're ready for anything :-) Bring your friends and family for a free evening of fantastic fun! Board games\, CCG's\, RPGs\, Warhammer...let me know what you want to play so we can be prepared! If you think board games are just Monopoly and Pictionary\, we'll happily prove you wrong :-) Come check it out and play in our bright\, open\, family friendly environment.
X-ALT-DESC;FMTTYPE=text/html:We&#39\;re ready for anything :-) Bring your friends and family for a free evening of fantastic fun! Board games\, CCG&#39\;s\, RPGs\, Warhammer...let me know what you want to play so we can be prepared! If you think board games are just Monopoly and Pictionary\, we&#39\;ll happily prove you wrong :-) Come check it out and play in our bright\, open\, family friendly environment.
LOCATION:Clockwork Gamer 5611 Colleyville Blvd #160 Colleyville\, TX 76034
UID:e.642.6927
SEQUENCE:3
DTSTAMP:20260421T221734Z
URL:https://business.colleyvillechamber.org/events/details/clockwork-gamer-friends-family-game-day-08-23-2014-6927
END:VEVENT

END:VCALENDAR
