BEGIN:VCALENDAR
VERSION:2.0
PRODID:-//ChamberMaster//Event Calendar 2.0//EN
METHOD:PUBLISH
X-PUBLISHED-TTL:P3D
REFRESH-INTERVAL:P3D
CALSCALE:GREGORIAN
BEGIN:VEVENT
DTSTART:20141025T150000Z
DTEND:20141026T000000Z
X-MICROSOFT-CDO-ALLDAYEVENT:FALSE
SUMMARY:Clockwork Gamer - Halloween Comic Festival
DESCRIPTION:We will be having our Halloween Comic Festival and one year anniversary this weekend. We will have free Face painting\, Green screen\, and comics.\n\n\n\nWe also will be having a Costume contest all day. Either your Green Screen photo or a pic of you will be your entry.\n\n\n\nWe will also have some artists here:\n\n\n\nAndrew Mangum from 2pn to 7pm(designer of our window art) with his newest Cover art for Evil Ernie. https://www.facebook.com/AndrewMangumArt\n\n\n\nSeth Skorkowsky\, author of Damoren\, from 2 to 7. He will be doing a book signing. https://www.facebook.com/seth.skorkowsky
X-ALT-DESC;FMTTYPE=text/html:<span class="fsl">We will be having our Halloween Comic Festival and one year anniversary this weekend. We will have free Face painting\, Green screen\, and comics.<br />\n<br />\nWe also will be having a Costume contest all day. Either your Green Screen photo or a pic of you will be your entry.<br />\n<br />\nWe will also have some artists here:<br />\n<br />\nAndrew Mangum from 2pn to 7pm(designer of our window art) with his newest Cover art for Evil Ernie. <a href="https://www.facebook.com/AndrewMangumArt" rel="nofollow"><font color="#0066cc"><span>https://www.facebook.com/</span><wbr />AndrewMangumArt</font></a><br />\n<br />\nSeth Skorkowsky\, author of Damoren\, from 2 to 7. He will be doing a book signing. <a href="https://www.facebook.com/seth.skorkowsky" rel="nofollow"><font color="#0066cc"><span>https://www.facebook.com/</span><wbr />seth.skorkowsky</font></a></span>
LOCATION:5611 Colleyville Blvd. Suite 160 Colleyville\, TX 76034
UID:e.642.7036
SEQUENCE:3
DTSTAMP:20260421T185932Z
URL:https://business.colleyvillechamber.org/events/details/clockwork-gamer-halloween-comic-festival-10-25-2014-7036
END:VEVENT

END:VCALENDAR
