BEGIN:VCALENDAR
VERSION:2.0
PRODID:-//ChamberMaster//Event Calendar 2.0//EN
METHOD:PUBLISH
X-PUBLISHED-TTL:P3D
REFRESH-INTERVAL:P3D
CALSCALE:GREGORIAN
BEGIN:VEVENT
DTSTART:20150326T133000Z
DTEND:20150326T150000Z
X-MICROSOFT-CDO-ALLDAYEVENT:FALSE
SUMMARY:Coffee with a Cop
DESCRIPTION:Join your neighbors and police officers for coffee and conversation! No agenda. Just a chance to ask questions\, voice concerns and get to know officers in your neighborhood.
X-ALT-DESC;FMTTYPE=text/html:Join your neighbors and police officers for coffee and conversation! No agenda. Just a chance to ask questions\, voice concerns and get to know officers in your neighborhood.
LOCATION:Market Street 5605 Colleyville Blvd.
UID:e.642.7564
SEQUENCE:3
DTSTAMP:20260421T112248Z
URL:https://business.colleyvillechamber.org/events/details/coffee-with-a-cop-03-26-2015-7564
END:VEVENT

END:VCALENDAR
