BEGIN:VCALENDAR
VERSION:2.0
PRODID:-//ChamberMaster//Event Calendar 2.0//EN
METHOD:PUBLISH
X-PUBLISHED-TTL:P3D
REFRESH-INTERVAL:P3D
CALSCALE:GREGORIAN
BEGIN:VEVENT
DTSTART:20140327T170000Z
DTEND:20140327T190000Z
X-MICROSOFT-CDO-ALLDAYEVENT:FALSE
SUMMARY:Colleyville Cash Mob
DESCRIPTION:Colleyville Cash Mob at Pho Duy\n\n3930 Glade Rd.\, Suite 126\n\nColleyville\, TX
X-ALT-DESC;FMTTYPE=text/html:Colleyville Cash Mob at Pho Duy<br />\n3930 Glade Rd.\, Suite 126<br />\nColleyville\, TX
LOCATION:
UID:e.642.6854
SEQUENCE:3
DTSTAMP:20260422T065854Z
URL:https://business.colleyvillechamber.org/events/details/colleyville-cash-mob-03-27-2014-6854
END:VEVENT

END:VCALENDAR
