BEGIN:VCALENDAR
VERSION:2.0
PRODID:-//ChamberMaster//Event Calendar 2.0//EN
METHOD:PUBLISH
X-PUBLISHED-TTL:P3D
REFRESH-INTERVAL:P3D
CALSCALE:GREGORIAN
BEGIN:VEVENT
DTSTART:20150226T180000Z
DTEND:20150226T190000Z
X-MICROSOFT-CDO-ALLDAYEVENT:FALSE
SUMMARY:Colleyville Cash Mob - Braum's
DESCRIPTION:Braum's \n\n4500 Colleyville Blvd.\n\nColleyville\, TX 76034\n\n817-656-8920\n\nBraums.com
X-ALT-DESC;FMTTYPE=text/html:<span style="font-size: medium\;"><span style="font-family: calibri\;">Braum&rsquo\;s </span></span><br />\n<span style="font-size: medium\;"><span style="font-family: calibri\;">4500 Colleyville Blvd.</span></span><br />\n<span style="font-size: medium\;"><span style="font-family: calibri\;">Colleyville\, TX 76034</span></span><br />\n<span style="font-size: medium\;"><span style="font-family: calibri\;">817-656-8920</span></span><br />\n<a href="http://www.braums.com/"><span style="font-size: medium\;"><span style="font-family: calibri\;"><span style="color: rgb(5\, 99\, 193)\;">Braums.com</span></span></span></a><br />\n&nbsp\;
LOCATION:
UID:e.642.7533
SEQUENCE:3
DTSTAMP:20260421T124458Z
URL:https://business.colleyvillechamber.org/events/details/colleyville-cash-mob-braum-s-02-26-2015-7533
END:VEVENT

END:VCALENDAR
