BEGIN:VCALENDAR
VERSION:2.0
PRODID:-//ChamberMaster//Event Calendar 2.0//EN
METHOD:PUBLISH
X-PUBLISHED-TTL:P3D
REFRESH-INTERVAL:P3D
CALSCALE:GREGORIAN
BEGIN:VEVENT
DTSTART:20141112T133000Z
DTEND:20141112T143000Z
X-MICROSOFT-CDO-ALLDAYEVENT:FALSE
SUMMARY:Colleyville Cash Mob - Dunkin Donuts
DESCRIPTION:Cash Mob\n\nDunkin Donuts\n\n5695 Colleyville Blvd.\n\nColleyville\, TX  76034\n\n\n\nWhat is a Cash Mob?  A Cash Mob is a group of people gathering at a local establishment to make purchases. The purpose is to support both the local economy and the overall sense of community. They also serve a secondary purpose in providing social opportunities - they provide a networking opportunity for the business owners and individuals.
X-ALT-DESC;FMTTYPE=text/html:Cash Mob<br />\nDunkin Donuts<br />\n5695 Colleyville Blvd.<br />\nColleyville\, TX&nbsp\; 76034<br />\n<br />\n<span style="background: white\;"><span style="font-size: 10pt\;"><span style="font-family: helvetica\,sans-serif\;"><span style="color: rgb(51\, 51\, 51)\;">What is a Cash Mob?&nbsp\; A Cash Mob is a group of people gathering at a local establishment to make purchases. The purpose is to support both the local economy and the overall sense of community. They also serve a secondary purpose in providing social opportunities - they provide a networking opportunity for the business owners and individuals.&nbsp\; </span></span></span></span><br />\n&nbsp\;
LOCATION:
UID:e.642.7241
SEQUENCE:3
DTSTAMP:20260421T172202Z
URL:https://business.colleyvillechamber.org/events/details/colleyville-cash-mob-dunkin-donuts-11-12-2014-7241
END:VEVENT

END:VCALENDAR
