BEGIN:VCALENDAR
VERSION:2.0
PRODID:-//ChamberMaster//Event Calendar 2.0//EN
METHOD:PUBLISH
X-PUBLISHED-TTL:P3D
REFRESH-INTERVAL:P3D
CALSCALE:GREGORIAN
BEGIN:VEVENT
DTSTART:20150331T170000Z
DTEND:20150331T190000Z
X-MICROSOFT-CDO-ALLDAYEVENT:FALSE
SUMMARY:Colleyville Cash Mob - Valentino's Pizzeria
DESCRIPTION:Cash mob at Valentino's Pizzeria & Restaurant\n\n\n\nStop in and join the other cash mobbers for lunch and social networking.\n\n\n\n1101 Cheek Sparger Rd (Tara Village)\n\nColleyville\, TX\n\n817-281-6400\n\nOwner:  Mohammed Ehsan
X-ALT-DESC;FMTTYPE=text/html:Cash mob at Valentino&#39\;s Pizzeria &amp\; Restaurant<br />\n<br />\n<span style="font-size: 16pt\;"><span style="font-family: arial\,sans-serif\;"><span style="color: rgb(0\, 176\, 80)\;">Stop in and join the other cash mobbers for lunch and&nbsp\;social networking.</span></span></span><br />\n<br />\n1101 Cheek Sparger Rd (Tara Village)<br />\nColleyville\, TX<br />\n817-281-6400<br />\nOwner:&nbsp\; Mohammed Ehsan
LOCATION:
UID:e.642.7560
SEQUENCE:3
DTSTAMP:20260421T113506Z
URL:https://business.colleyvillechamber.org/events/details/colleyville-cash-mob-valentino-s-pizzeria-03-31-2015-7560
END:VEVENT

END:VCALENDAR
