BEGIN:VCALENDAR
VERSION:2.0
PRODID:-//ChamberMaster//Event Calendar 2.0//EN
METHOD:PUBLISH
X-PUBLISHED-TTL:P3D
REFRESH-INTERVAL:P3D
CALSCALE:GREGORIAN
BEGIN:VEVENT
DTSTART:20120414T133000Z
DTEND:20120414T170000Z
X-MICROSOFT-CDO-ALLDAYEVENT:FALSE
SUMMARY:Colleyville Clean Sweep
DESCRIPTION:Spring 2012 Keep Colleyville Beautiful Clean Sweep
X-ALT-DESC;FMTTYPE=text/html:Spring 2012 Keep Colleyville Beautiful Clean Sweep<br />\n
LOCATION:McPherson Park McDonwell School Rd. Colleyville
UID:e.642.4997
SEQUENCE:3
DTSTAMP:20260423T212135Z
URL:https://business.colleyvillechamber.org/events/details/colleyville-clean-sweep-04-14-2012-4997
END:VEVENT

END:VCALENDAR
