BEGIN:VCALENDAR
VERSION:2.0
PRODID:-//ChamberMaster//Event Calendar 2.0//EN
METHOD:PUBLISH
X-PUBLISHED-TTL:P3D
REFRESH-INTERVAL:P3D
CALSCALE:GREGORIAN
BEGIN:VEVENT
DTSTART:20140123T180000Z
DTEND:20140123T190000Z
X-MICROSOFT-CDO-ALLDAYEVENT:FALSE
SUMMARY:Colleyville Connection
DESCRIPTION:www.colleyvilleconnection.com
X-ALT-DESC;FMTTYPE=text/html:<a href="http://www.colleyvilleconnection.com">www.colleyvilleconnection.com</a>
LOCATION:Next Wood Fired Bistro 5003 Colleyville Blvd. Colleyville\, TX 76034
UID:e.642.14561
SEQUENCE:3
DTSTAMP:20260422T112523Z
URL:https://business.colleyvillechamber.org/events/details/colleyville-connection-01-23-2014-14561
END:VEVENT

END:VCALENDAR
