BEGIN:VCALENDAR
VERSION:2.0
PRODID:-//ChamberMaster//Event Calendar 2.0//EN
METHOD:PUBLISH
X-PUBLISHED-TTL:P3D
REFRESH-INTERVAL:P3D
CALSCALE:GREGORIAN
BEGIN:VEVENT
DTSTART:20121004T170000Z
DTEND:20121004T180000Z
X-MICROSOFT-CDO-ALLDAYEVENT:FALSE
SUMMARY:Colleyville Connection
DESCRIPTION:Looking to generate business referrals and get to know more people in your community?  Come visit this weekly networking group for fantastic business and personal development opportunities.  You have to eat lunch\, so why not build your network while you do it?  Bring a colleague and enjoy local\, professional business networking!
X-ALT-DESC;FMTTYPE=text/html:<div>\n	Looking to generate business referrals and get to know more people in your community?&nbsp\; Come visit this weekly networking group for fantastic business and personal development opportunities.&nbsp\; You have to eat lunch\, so why not build your network while you do it?&nbsp\; Bring a colleague and enjoy local\, professional business networking!</div>\n
LOCATION:Bellissimo's Italian Restaurant 5309 Colleyville Blvd Colleyville\, TX
UID:e.642.4252
SEQUENCE:3
DTSTAMP:20260423T104851Z
URL:https://business.colleyvillechamber.org/events/details/colleyville-connection-10-04-2012-4252
END:VEVENT

END:VCALENDAR
