BEGIN:VCALENDAR
VERSION:2.0
PRODID:-//ChamberMaster//Event Calendar 2.0//EN
METHOD:PUBLISH
X-PUBLISHED-TTL:P3D
REFRESH-INTERVAL:P3D
CALSCALE:GREGORIAN
BEGIN:VEVENT
DTSTART:20241114T230000Z
DTEND:20241115T010000Z
X-MICROSOFT-CDO-ALLDAYEVENT:FALSE
SUMMARY:Colleyville Connection - MEETING AT 5PM - PACKING BACKPACKS FOR THOSE IN NEED
DESCRIPTION:THIS MEETING ONLY WILL MEET AT 5PM FOR A PACKING PARTY FOR BACKPACKS FOR THE HOMELESS. FOR MORE INFORMATION: https://business.colleyvillechamber.org/events/details/packing-backpacks-for-those-in-need-31034
X-ALT-DESC;FMTTYPE=text/html:THIS MEETING ONLY WILL MEET AT 5PM FOR A PACKING PARTY FOR BACKPACKS FOR THE HOMELESS. FOR MORE INFORMATION:&nbsp\;https://business.colleyvillechamber.org/events/details/packing-backpacks-for-those-in-need-31034<br />\n<br />\n&nbsp\;
LOCATION:Sophie Tel Diaz Real Estate 28 Village Lane\, #100 Colleyville\, TX 76034
UID:e.642.14671
SEQUENCE:3
DTSTAMP:20260423T003255Z
URL:https://business.colleyvillechamber.org/events/details/colleyville-connection-meeting-at-5pm-packing-backpacks-for-those-in-need-14671
END:VEVENT

END:VCALENDAR
