BEGIN:VCALENDAR
VERSION:2.0
PRODID:-//ChamberMaster//Event Calendar 2.0//EN
METHOD:PUBLISH
X-PUBLISHED-TTL:P3D
REFRESH-INTERVAL:P3D
CALSCALE:GREGORIAN
BEGIN:VEVENT
DTSTART:20140517T150000Z
DTEND:20140517T180000Z
X-MICROSOFT-CDO-ALLDAYEVENT:FALSE
SUMMARY:Colleyville Fire Dept. Open House
DESCRIPTION:Colleyville Central Fire Station Open House 2014\n\n5209 Colleyville Blvd.\, Colleyville
X-ALT-DESC;FMTTYPE=text/html:Colleyville Central Fire Station Open House 2014<br />\n5209 Colleyville Blvd.\, Colleyville
LOCATION:
UID:e.642.6877
SEQUENCE:3
DTSTAMP:20260422T033219Z
URL:https://business.colleyvillechamber.org/events/details/colleyville-fire-dept-open-house-05-17-2014-6877
END:VEVENT

END:VCALENDAR
