BEGIN:VCALENDAR
VERSION:2.0
PRODID:-//ChamberMaster//Event Calendar 2.0//EN
METHOD:PUBLISH
X-PUBLISHED-TTL:P3D
REFRESH-INTERVAL:P3D
CALSCALE:GREGORIAN
BEGIN:VEVENT
DTSTART:20120404T143000Z
DTEND:20120404T163000Z
X-MICROSOFT-CDO-ALLDAYEVENT:FALSE
SUMMARY:Colleyville Garden Club Monthly Meeting
DESCRIPTION:Rebecca Miller\, chief meteorologist at KDAF\, Ch 33 and avid organic gardener\, will present a program entitled "Organics in the Home and Garden" Visitors are welcome.
X-ALT-DESC;FMTTYPE=text/html:<p class="MsoNormal" style="margin: 0in 22.5pt 0pt 4.5pt">\n	<font size="3"><font face="Times New Roman"><font color="#000000"><span style="mso-spacerun: yes">&nbsp\;</span></font><span class="apple-style-span"><span style="color: #2a2a2a">Rebecca Miller\,</span></span><span class="ecxapple-style-span"><span style="color: #0003ff"> </span></span><span class="apple-style-span"><span style="color: black">chief meteorologist at KDAF\, Ch 33 and avid organic gardener\, will present a program entitled </span><span style="color: #2a2a2a">&quot\;</span></span><span style="color: #2a2a2a\; mso-bidi-font-weight: bold">Organics in the Home and Garden</span><span class="apple-style-span"><span style="color: #2a2a2a">&quot\;</span></span><font color="#000000"> Visitors are welcome.<span style="mso-spacerun: yes">&nbsp\; </span></font></font></font></p>\n
LOCATION:Colleyville Center (located at 5301 Riverwalk Drive).
UID:e.642.5017
SEQUENCE:3
DTSTAMP:20260423T212254Z
URL:https://business.colleyvillechamber.org/events/details/colleyville-garden-club-monthly-meeting-04-04-2012-5017
END:VEVENT

END:VCALENDAR
