BEGIN:VCALENDAR
VERSION:2.0
PRODID:-//ChamberMaster//Event Calendar 2.0//EN
METHOD:PUBLISH
X-PUBLISHED-TTL:P3D
REFRESH-INTERVAL:P3D
CALSCALE:GREGORIAN
BEGIN:VEVENT
DTSTART:20120822T140000Z
DTEND:20120822T163000Z
X-MICROSOFT-CDO-ALLDAYEVENT:FALSE
SUMMARY:Colleyville Garden Club - Promenade Committee
DESCRIPTION:Monthly Promenade Committee Meeting\n\nAt Chamber office
X-ALT-DESC;FMTTYPE=text/html:Monthly Promenade Committee Meeting<br />\nAt Chamber office
LOCATION:
UID:e.642.4854
SEQUENCE:3
DTSTAMP:20260423T140739Z
URL:https://business.colleyvillechamber.org/events/details/colleyville-garden-club-promenade-committee-08-22-2012-4854
END:VEVENT

END:VCALENDAR
