BEGIN:VCALENDAR
VERSION:2.0
PRODID:-//ChamberMaster//Event Calendar 2.0//EN
METHOD:PUBLISH
X-PUBLISHED-TTL:P3D
REFRESH-INTERVAL:P3D
CALSCALE:GREGORIAN
BEGIN:VEVENT
DTSTART:20121128T150000Z
DTEND:20121128T173000Z
X-MICROSOFT-CDO-ALLDAYEVENT:FALSE
SUMMARY:Colleyville Garden Club - Promenade Committee
DESCRIPTION:Monthly Promenade Committee Meeting\n\nAt Chamber office
X-ALT-DESC;FMTTYPE=text/html:Monthly Promenade Committee Meeting<br />\nAt Chamber office
LOCATION:
UID:e.642.4857
SEQUENCE:3
DTSTAMP:20260423T090710Z
URL:https://business.colleyvillechamber.org/events/details/colleyville-garden-club-promenade-committee-11-28-2012-4857
END:VEVENT

END:VCALENDAR
