BEGIN:VCALENDAR
VERSION:2.0
PRODID:-//ChamberMaster//Event Calendar 2.0//EN
METHOD:PUBLISH
X-PUBLISHED-TTL:P3D
REFRESH-INTERVAL:P3D
CALSCALE:GREGORIAN
BEGIN:VEVENT
DTSTART:20130505T160000Z
DTEND:20130505T210000Z
X-MICROSOFT-CDO-ALLDAYEVENT:FALSE
SUMMARY:Colleyville Garden Club Promenade Garden Tour
DESCRIPTION:Colleyville Garden Club presents its\n\n	20th Promenade Garden Tour 2013\n\n	Sunday\, May 5\, 2013\n\n	11:00 am - 4:00 pm\n\n	Tickets are $12 in Advance\; $15 day of Tour\n\n	 \n\n	Tickets on sale in Mid-April at the following locations:\n\n	Colleyville - Foreman's\, Market Street\n\n	Grapevine - Blooming Colors\, Marshall Grain\n\n	Hurst & Southlake - Calloway's Nursery\n\n	Fort Worth - Weston Gardens in Bloom\n\n	 \n\n	Come tour 4 beautiful area gardens\, featuring a wide variety of plantings for sun and shade\,\n\n	outdoor living areas\, water features and garden whimsy!\n\n	 \n\n	Also on the Tour:\n\n	Plant Sale ~ Educational Exhibits ~ Raffle\n\n	Tarrant County Master Gardeners will on hand at each garden to answer questions.\n\n	 \n\n	For more information\, please visit our website:  www.colleyvillegardenclub.org\n\n	or contact Susan Taylor at colleyvillegardenclub@gmail.com\n\n	 \n\n	Proceeds from Promenade fund CGC's student scholarships\, community service\, civic and beautification projects. \n\n	Colleyville Garden Club is a 501(c)(3) nonprofit organization.
X-ALT-DESC;FMTTYPE=text/html:<p align="center" style="margin: 0in 0in 0pt\; text-align: center\;">\n	<span style="color: rgb(57\, 89\, 26)\; font-family: &quot\;Helvetica&quot\;\,&quot\;sans-serif&quot\;\; font-size: 10.5pt\;">Colleyville Garden Club presents its<o:p></o:p></span></p>\n<p align="center" style="margin: 0in 0in 0pt\; text-align: center\;">\n	<b><span style="color: rgb(57\, 89\, 26)\; font-family: &quot\;Helvetica&quot\;\,&quot\;sans-serif&quot\;\; font-size: 10.5pt\;">20</span></b><b><sup><span style="color: rgb(57\, 89\, 26)\; font-family: &quot\;Helvetica&quot\;\,&quot\;sans-serif&quot\;\; font-size: 7pt\;">th</span></sup></b><b><span style="color: rgb(57\, 89\, 26)\; font-family: &quot\;Helvetica&quot\;\,&quot\;sans-serif&quot\;\; font-size: 10.5pt\;">&nbsp\;Promenade Garden Tour 2013</span></b><span style="color: rgb(57\, 89\, 26)\; font-family: &quot\;Helvetica&quot\;\,&quot\;sans-serif&quot\;\; font-size: 10.5pt\;"><o:p></o:p></span></p>\n<p align="center" style="margin: 0in 0in 0pt\; text-align: center\;">\n	<span style="color: rgb(57\, 89\, 26)\; font-family: &quot\;Helvetica&quot\;\,&quot\;sans-serif&quot\;\; font-size: 9pt\;">Sunday\, May 5\, 2013<o:p></o:p></span></p>\n<p align="center" style="margin: 0in 0in 0pt\; text-align: center\;">\n	<span style="color: rgb(57\, 89\, 26)\; font-family: &quot\;Helvetica&quot\;\,&quot\;sans-serif&quot\;\; font-size: 9pt\;">11:00 am - 4:00 pm<o:p></o:p></span></p>\n<p align="center" style="margin: 0in 0in 0pt\; text-align: center\;">\n	<span style="color: rgb(57\, 89\, 26)\; font-family: &quot\;Helvetica&quot\;\,&quot\;sans-serif&quot\;\; font-size: 9pt\;">Tickets are $12 in Advance\; $15 day of Tour<o:p></o:p></span></p>\n<p align="center" style="margin: 0in 0in 0pt\; text-align: center\; min-height: 14px\;">\n	<span style="color: rgb(57\, 89\, 26)\; font-family: &quot\;Helvetica&quot\;\,&quot\;sans-serif&quot\;\; font-size: 9pt\;"><o:p><font face="Times New Roman" size="3">&nbsp\;</font></o:p></span></p>\n<p align="center" style="margin: 0in 0in 0pt\; text-align: center\;">\n	<b><span style="color: rgb(57\, 89\, 26)\; font-family: &quot\;Helvetica&quot\;\,&quot\;sans-serif&quot\;\; font-size: 9pt\;">Tickets on sale in Mid-April at the following locations:</span></b><span style="color: rgb(57\, 89\, 26)\; font-family: &quot\;Helvetica&quot\;\,&quot\;sans-serif&quot\;\; font-size: 9pt\;"><o:p></o:p></span></p>\n<p align="center" style="margin: 0in 0in 0pt\; text-align: center\;">\n	<b><span style="color: rgb(57\, 89\, 26)\; font-family: &quot\;Helvetica&quot\;\,&quot\;sans-serif&quot\;\; font-size: 9pt\;">Colleyville - Foreman&#39\;s\, Market Street</span></b><span style="color: rgb(57\, 89\, 26)\; font-family: &quot\;Helvetica&quot\;\,&quot\;sans-serif&quot\;\; font-size: 9pt\;"><o:p></o:p></span></p>\n<p align="center" style="margin: 0in 0in 0pt\; text-align: center\;">\n	<b><span style="color: rgb(57\, 89\, 26)\; font-family: &quot\;Helvetica&quot\;\,&quot\;sans-serif&quot\;\; font-size: 9pt\;">Grapevine - Blooming Colors\, Marshall Grain</span></b><span style="color: rgb(57\, 89\, 26)\; font-family: &quot\;Helvetica&quot\;\,&quot\;sans-serif&quot\;\; font-size: 9pt\;"><o:p></o:p></span></p>\n<p align="center" style="margin: 0in 0in 0pt\; text-align: center\;">\n	<b><span style="color: rgb(57\, 89\, 26)\; font-family: &quot\;Helvetica&quot\;\,&quot\;sans-serif&quot\;\; font-size: 9pt\;">Hurst &amp\; Southlake - Calloway&#39\;s Nursery</span></b><span style="color: rgb(57\, 89\, 26)\; font-family: &quot\;Helvetica&quot\;\,&quot\;sans-serif&quot\;\; font-size: 9pt\;"><o:p></o:p></span></p>\n<p align="center" style="margin: 0in 0in 0pt\; text-align: center\;">\n	<b><span style="color: rgb(57\, 89\, 26)\; font-family: &quot\;Helvetica&quot\;\,&quot\;sans-serif&quot\;\; font-size: 9pt\;">Fort Worth - Weston Gardens in Bloom</span></b><span style="color: rgb(57\, 89\, 26)\; font-family: &quot\;Helvetica&quot\;\,&quot\;sans-serif&quot\;\; font-size: 9pt\;"><o:p></o:p></span></p>\n<p align="center" style="margin: 0in 0in 0pt\; text-align: center\; min-height: 14px\;">\n	<span style="color: rgb(57\, 89\, 26)\; font-family: &quot\;Helvetica&quot\;\,&quot\;sans-serif&quot\;\; font-size: 9pt\;"><o:p><font face="Times New Roman" size="3">&nbsp\;</font></o:p></span></p>\n<p align="center" style="margin: 0in 0in 0pt\; text-align: center\;">\n	<span style="color: rgb(57\, 89\, 26)\; font-family: &quot\;Helvetica&quot\;\,&quot\;sans-serif&quot\;\; font-size: 9pt\;">Come tour 4 beautiful area gardens\, featuring a wide variety of plantings for sun and shade\,<o:p></o:p></span></p>\n<p align="center" style="margin: 0in 0in 0pt\; text-align: center\;">\n	<span style="color: rgb(57\, 89\, 26)\; font-family: &quot\;Helvetica&quot\;\,&quot\;sans-serif&quot\;\; font-size: 9pt\;">outdoor living areas\, water features and garden whimsy!<o:p></o:p></span></p>\n<p align="center" style="margin: 0in 0in 0pt\; text-align: center\;">\n	<span style="color: rgb(57\, 89\, 26)\; font-family: &quot\;Helvetica&quot\;\,&quot\;sans-serif&quot\;\; font-size: 9pt\;"><o:p><font face="Times New Roman" size="3">&nbsp\;</font></o:p></span></p>\n<p align="center" style="margin: 0in 0in 0pt\; text-align: center\;">\n	<i><span style="color: rgb(57\, 89\, 26)\; font-family: &quot\;Helvetica&quot\;\,&quot\;sans-serif&quot\;\; font-size: 9pt\;">Also on the Tour:</span></i><span style="color: rgb(57\, 89\, 26)\; font-family: &quot\;Helvetica&quot\;\,&quot\;sans-serif&quot\;\; font-size: 9pt\;"><o:p></o:p></span></p>\n<p align="center" style="margin: 0in 0in 0pt\; text-align: center\;">\n	<b><i><span style="color: rgb(57\, 89\, 26)\; font-family: &quot\;Helvetica&quot\;\,&quot\;sans-serif&quot\;\; font-size: 9pt\;">Plant Sale ~ Educational Exhibits ~&nbsp\;Raffle</span></i></b><span style="color: rgb(57\, 89\, 26)\; font-family: &quot\;Helvetica&quot\;\,&quot\;sans-serif&quot\;\; font-size: 9pt\;"><o:p></o:p></span></p>\n<p align="center" style="margin: 0in 0in 0pt\; text-align: center\;">\n	<span style="color: rgb(57\, 89\, 26)\; font-family: &quot\;Helvetica&quot\;\,&quot\;sans-serif&quot\;\; font-size: 9pt\;">Tarrant County Master Gardeners will on hand at each garden to answer questions.<o:p></o:p></span></p>\n<p align="center" style="margin: 0in 0in 0pt\; text-align: center\; min-height: 14px\;">\n	<span style="color: rgb(57\, 89\, 26)\; font-family: &quot\;Helvetica&quot\;\,&quot\;sans-serif&quot\;\; font-size: 9pt\;"><o:p><font face="Times New Roman" size="3">&nbsp\;</font></o:p></span></p>\n<p align="center" style="margin: 0in 0in 0pt\; text-align: center\;">\n	<span style="color: rgb(57\, 89\, 26)\; font-family: &quot\;Helvetica&quot\;\,&quot\;sans-serif&quot\;\; font-size: 9pt\;">For more information\, please visit our website:&nbsp\;&nbsp\;<b><a href="http://www.colleyvillegardenclub.org/" target="_blank"><font color="#0000ff">www.colleyvillegardenclub.org</font></a></b><o:p></o:p></span></p>\n<p align="center" style="margin: 0in 0in 0pt\; text-align: center\;">\n	<span style="color: rgb(57\, 89\, 26)\; font-family: &quot\;Helvetica&quot\;\,&quot\;sans-serif&quot\;\; font-size: 9pt\;">or contact Susan Taylor at&nbsp\;<b><a href="mailto:colleyvillegardenclub@gmail.com" target="_blank"><font color="#0000ff">colleyvillegardenclub@gmail.com</font></a></b><o:p></o:p></span></p>\n<p align="center" style="margin: 0in 0in 0pt\; text-align: center\; min-height: 14px\;">\n	<span style="font-family: &quot\;Helvetica&quot\;\,&quot\;sans-serif&quot\;\; font-size: 9pt\;"><o:p><font color="#000000" face="Times New Roman" size="3">&nbsp\;</font></o:p></span></p>\n<p align="center" style="margin: 0in 0in 0pt\; text-align: center\;">\n	<span style="color: rgb(68\, 68\, 68)\; font-family: &quot\;Helvetica Light&quot\;\,&quot\;serif&quot\;\; font-size: 7.5pt\;">Proceeds from Promenade fund CGC&rsquo\;s student scholarships\, community service\, civic and beautification projects.&nbsp\;<o:p></o:p></span></p>\n<p align="center" style="margin: 0in 0in 0pt\; text-align: center\;">\n	<span style="color: rgb(68\, 68\, 68)\; font-family: &quot\;Helvetica Light&quot\;\,&quot\;serif&quot\;\; font-size: 7.5pt\;">Colleyville Garden Club is a 501(c)(3) nonprofit organization.<o:p></o:p></span></p>\n
LOCATION:
UID:e.642.5612
SEQUENCE:3
DTSTAMP:20260422T223116Z
URL:https://business.colleyvillechamber.org/events/details/colleyville-garden-club-promenade-garden-tour-05-05-2013-5612
END:VEVENT

END:VCALENDAR
