BEGIN:VCALENDAR
VERSION:2.0
PRODID:-//ChamberMaster//Event Calendar 2.0//EN
METHOD:PUBLISH
X-PUBLISHED-TTL:P3D
REFRESH-INTERVAL:P3D
CALSCALE:GREGORIAN
BEGIN:VEVENT
DTSTART:20120506T160000Z
DTEND:20120506T210000Z
X-MICROSOFT-CDO-ALLDAYEVENT:FALSE
SUMMARY:Colleyville Garden Club Promenade Garden Tour
DESCRIPTION:
X-ALT-DESC;FMTTYPE=text/html:
LOCATION:
UID:e.642.5033
SEQUENCE:3
DTSTAMP:20260423T183249Z
URL:https://business.colleyvillechamber.org/events/details/colleyville-garden-club-promenade-garden-tour-05-06-2012-5033
END:VEVENT

END:VCALENDAR
