BEGIN:VCALENDAR
VERSION:2.0
PRODID:-//ChamberMaster//Event Calendar 2.0//EN
METHOD:PUBLISH
X-PUBLISHED-TTL:P3D
REFRESH-INTERVAL:P3D
CALSCALE:GREGORIAN
BEGIN:VEVENT
DTSTART:20140419T170000Z
DTEND:20140419T200000Z
X-MICROSOFT-CDO-ALLDAYEVENT:FALSE
SUMMARY:Colleyville Heritage Lion's Club Rabbit Hunt and Easter Event
DESCRIPTION:Join us for Egg hunting\, bounce houses\, face painting\, petting zoo\, raffles\, prizes\, and pictures with Mr. and Mrs. Bunny.
X-ALT-DESC;FMTTYPE=text/html:Join us for Egg hunting\, bounce houses\, face painting\, petting zoo\, raffles\, prizes\,&nbsp\;and pictures with Mr. and Mrs. Bunny.
LOCATION:Delaney Vineyards-2000 Champagne Blvd\, Grapevine\, Tx 76051
UID:e.642.6866
SEQUENCE:3
DTSTAMP:20260422T070022Z
URL:https://business.colleyvillechamber.org/events/details/colleyville-heritage-lion-s-club-rabbit-hunt-and-easter-event-04-19-2014-6866
END:VEVENT

END:VCALENDAR
