BEGIN:VCALENDAR
VERSION:2.0
PRODID:-//ChamberMaster//Event Calendar 2.0//EN
METHOD:PUBLISH
X-PUBLISHED-TTL:P3D
REFRESH-INTERVAL:P3D
CALSCALE:GREGORIAN
BEGIN:VEVENT
DTSTART:20140607T122500Z
DTEND:20140607T190000Z
X-MICROSOFT-CDO-ALLDAYEVENT:FALSE
SUMMARY:Colleyville Lion's Club xSIGHTment Run
DESCRIPTION:One Mile Fun Run\, 5L Chrono Trac Timing and 5K Untimed
X-ALT-DESC;FMTTYPE=text/html:One Mile Fun Run\, 5L Chrono Trac Timing and 5K Untimed
LOCATION:Colleyville Center 5301 Riverwalk Drive Colleyville\, TX 76034
UID:e.642.6850
SEQUENCE:3
DTSTAMP:20260422T014921Z
URL:https://business.colleyvillechamber.org/events/details/colleyville-lion-s-club-xsightment-run-06-07-2014-6850
END:VEVENT

END:VCALENDAR
