BEGIN:VCALENDAR
VERSION:2.0
PRODID:-//ChamberMaster//Event Calendar 2.0//EN
METHOD:PUBLISH
X-PUBLISHED-TTL:P3D
REFRESH-INTERVAL:P3D
CALSCALE:GREGORIAN
BEGIN:VEVENT
DTSTART:20221203T140000Z
DTEND:20221203T180000Z
X-MICROSOFT-CDO-ALLDAYEVENT:FALSE
SUMMARY:COLLEYVILLE LIONS CLUB 27TH ANNUAL BREAKFAST WITH SANTA
DESCRIPTION:Come celebrate the beginning of the holiday season with your family and friends\, and join us for a morning full of holiday cheer! Santa will be on site for all children getting photos with Santa! Activities include a pancake and sausage breakfast served on site\, live holiday music and singing\, a Christmas Land Adventures\, raffles and much more\, including one of Santa's Reindeer!. All funds are distributed to community nonprofit agencies.
X-ALT-DESC;FMTTYPE=text/html:Come celebrate the beginning of the holiday season with your family and friends\, and join us for a morning full of holiday cheer! Santa will be on site for all children getting photos with Santa! Activities include a pancake and sausage breakfast served on site\, live holiday music and singing\, a Christmas Land Adventures\, raffles and much more\, including one of Santa&#39\;s Reindeer!. All funds are distributed to community nonprofit agencies.
LOCATION:Crown of Life Lutheran Church 6605 Pleasant Run Rd. Colleyville\, TX 76034
UID:e.642.27115
SEQUENCE:3
DTSTAMP:20260424T145112Z
URL:https://business.colleyvillechamber.org/events/details/colleyville-lions-club-27th-annual-breakfast-with-santa-27115
END:VEVENT

END:VCALENDAR
