BEGIN:VCALENDAR
VERSION:2.0
PRODID:-//ChamberMaster//Event Calendar 2.0//EN
METHOD:PUBLISH
X-PUBLISHED-TTL:P3D
REFRESH-INTERVAL:P3D
CALSCALE:GREGORIAN
BEGIN:VEVENT
DTSTART:20131001T230000Z
DTEND:20131002T020000Z
X-MICROSOFT-CDO-ALLDAYEVENT:FALSE
SUMMARY:Colleyville National Night Out
DESCRIPTION:Plans are underway for Colleyville's citywide National Night Out event to be held Tuesday\, October 1st at Colleyville City Park. This event brings together police and fire departments\, homeowners' associations\, public safety vendors\, social agencies\, churches\, local businesses and residents. The Police and Fire departments Citizen's Academy Alumni Associations sponsor the festivities. This is the primary fundraiser for the alumni associations each year. The event showcases public safety vehicles\, demonstrations\, and activities. The final activity of the night will be the annual Colleyville Police Department vs. Colleyville Fire Department softball game. All activities will take place on Tuesday\, Oct. 1\, at Colleyville City Park.  Event hours are 6:00-9:00 p.m.
X-ALT-DESC;FMTTYPE=text/html:<span style="font-size: 12pt\;"><span style="font-family: calibri\;">Plans are underway for Colleyville&rsquo\;s citywide National Night Out event to be held Tuesday\, October 1<sup>st</sup> at Colleyville City Park. This event brings together police and fire departments\, homeowners&rsquo\; associations\, public safety vendors\, social agencies\, churches\, local businesses and residents. The Police and Fire departments Citizen&rsquo\;s Academy Alumni Associations sponsor the festivities. This is the primary fundraiser for the alumni associations each year. The event showcases public safety vehicles\, demonstrations\, and activities. The final activity of the night will be the annual Colleyville Police Department vs. Colleyville Fire Department softball game. All activities will take place on Tuesday\, Oct. 1\, at Colleyville City Park.&nbsp\; Event hours are 6:00-9:00 p.m.&nbsp\;</span></span><br />\n&nbsp\;<br />\n
LOCATION:Colleyville City Park Bransford Road
UID:e.642.5719
SEQUENCE:3
DTSTAMP:20260422T150424Z
URL:https://business.colleyvillechamber.org/events/details/colleyville-national-night-out-10-01-2013-5719
END:VEVENT

END:VCALENDAR
