BEGIN:VCALENDAR
VERSION:2.0
PRODID:-//ChamberMaster//Event Calendar 2.0//EN
METHOD:PUBLISH
X-PUBLISHED-TTL:P3D
REFRESH-INTERVAL:P3D
CALSCALE:GREGORIAN
BEGIN:VEVENT
DTSTART:20141007T230000Z
DTEND:20141008T020000Z
X-MICROSOFT-CDO-ALLDAYEVENT:FALSE
SUMMARY:Colleyville National Night Out
DESCRIPTION:This event brings together police and fire departments\, homeowners' associations\, public safety vendors\, social agencies\, churches and local businesses and residents.  National Night Out is designed to allow neighbors to join together and present a unified force in the fight again crime in their community.\n\nThis year\, we will be having the 6th Annual Colleyville Charity Softball Game between Colleyville's Finest vs. Colleyville's Bravest\, benefiting the Colleyville Citizens Police & Fire Alumni Associations.
X-ALT-DESC;FMTTYPE=text/html:This event brings together police and fire departments\, homeowners&#39\; associations\, public safety vendors\, social agencies\, churches and local businesses and residents.&nbsp\; National Night Out is designed to allow neighbors to join together and present a unified force in the fight again crime in their community.<br />\nThis year\, we will be having the 6th Annual Colleyville Charity Softball Game between <strong>Colleyville&#39\;s Finest </strong>vs. <strong>Colleyville&#39\;s Bravest\, </strong>benefiting the Colleyville Citizens Police &amp\; Fire Alumni Associations.
LOCATION:Colleyville City Park 5205 Bransford Road Colleyville\, TX 76034
UID:e.642.6959
SEQUENCE:3
DTSTAMP:20260421T190135Z
URL:https://business.colleyvillechamber.org/events/details/colleyville-national-night-out-10-07-2014-6959
END:VEVENT

END:VCALENDAR
