BEGIN:VCALENDAR
VERSION:2.0
PRODID:-//ChamberMaster//Event Calendar 2.0//EN
METHOD:PUBLISH
X-PUBLISHED-TTL:P3D
REFRESH-INTERVAL:P3D
CALSCALE:GREGORIAN
BEGIN:VEVENT
DTSTART:20130419T190000Z
DTEND:20130419T230000Z
X-MICROSOFT-CDO-ALLDAYEVENT:FALSE
SUMMARY:Colleyville Soccer Association Golf Tournament
DESCRIPTION:Start your weekend a little early and enjoy a wonderful spring afternoon at Bear Creek Golf Club! The tournament is a four person scramble format with a shotgun start at 2:00 pm. Entry fees are $80 per person or $300 per foursome and includes greens fees\, cart rental\, practice range balls\,  delicious hamburger and bratwurst buffet dinner with all the trimmings\, and chances to win fabulous hole-in-one prizes! Plus\, all proceeds go to improve CSA's practice fields!\n\n	\n\n	Register today by visiting www.golfinvite.com/csa.\n\n	 \n\n	For more information\, please email Mark Fadden at  mark@markfadden.com
X-ALT-DESC;FMTTYPE=text/html:<div style="color: gray\;">\n	<span style="font-size: 11px\;"><span style="font-family: arial\;">Start your weekend a little early and enjoy a wonderful spring afternoon at Bear Creek Golf Club! The tournament is a four person scramble format with a shotgun start at 2:00 pm. <strong>Entry fees are $80 per person or $300 per foursome</strong> and includes greens fees\, cart rental\, practice range balls\, &nbsp\;delicious hamburger and bratwurst buffet dinner with all the trimmings\, and chances to win fabulous hole-in-one prizes! Plus\, all proceeds go to improve CSA&rsquo\;s practice fields!<br />\n	<br />\n	Register today by visiting <a href="http://www.golfinvite.com/csa" target="_blank"><a href="http://www.golfinvite.com/csa" target="_blank"><span style="color: rgb(0\, 0\, 255)\;">www.golfinvite.com</span></a></a><span style="color: rgb(0\, 0\, 255)\;">/csa</span>.<br />\n	&nbsp\;<br />\n	For more information\, please email Mark Fadden at&nbsp\; <a href="mailto:mark@markfadden.com"><a href="mailto:mark@markfadden.com"><span style="color: rgb(0\, 0\, 255)\;">mark@markfadden.com</span></a></a></span></span><br />\n	<br />\n	&nbsp\;</div>\n
LOCATION:Bear Creek Golf Club 3500 Bear Creek Ct. Dallas\, TX 75261
UID:e.642.5627
SEQUENCE:3
DTSTAMP:20260423T020232Z
URL:https://business.colleyvillechamber.org/events/details/colleyville-soccer-association-golf-tournament-04-19-2013-5627
END:VEVENT

END:VCALENDAR
