BEGIN:VCALENDAR
VERSION:2.0
PRODID:-//ChamberMaster//Event Calendar 2.0//EN
METHOD:PUBLISH
X-PUBLISHED-TTL:P3D
REFRESH-INTERVAL:P3D
CALSCALE:GREGORIAN
BEGIN:VEVENT
DTSTART:20130125T000000Z
DTEND:20130125T023000Z
X-MICROSOFT-CDO-ALLDAYEVENT:FALSE
SUMMARY:Colleyville State of the City
DESCRIPTION:Save the Date!\n\n	The annual State of the City meeting will be held Thursday\, Jan. 24\, at Colleyville Center\, 5301 Riverwalk Drive. Designed as a one-stop information resource for residents\, the State of the City will be preceded by an open house with displays about city projects\, activities\, and departments\, as well as displays and information provided by Colleyville community groups. The open house begins at 6:00 p.m.\, followed by the State of the City at 7:00 p.m.\n\n	\n\n	A review of the past year and a look at some of the city's future initiatives will kick off the State of the City program\, with an emphasis on issues\, projects\, and developments that have had an impact on the city during the past year\, as well as a look at the year ahead. The Colleyville City Council and city staff will be available to talk with citizens and answer questions during the public Q&A session that will follow the formal presentation.\n\n	\n\n	For more information or to participate as a community group\, please call 817.503.1111.
X-ALT-DESC;FMTTYPE=text/html:<span style="font-size: 14px"><strong>Save the Date!</strong></span>\n<p>\n	<span style="font-family: 'verdana'\, 'sans-serif'\; color: black\; font-size: 10pt">The annual State of the City meeting will be held Thursday\, Jan. 2</span><span style="font-family: 'verdana'\, 'sans-serif'\; color: #1f497d\; font-size: 10pt">4</span><span style="font-family: 'verdana'\, 'sans-serif'\; color: black\; font-size: 10pt">\, at Colleyville Center\, 5301 Riverwalk Drive. Designed as a one-stop information resource for residents\, the State of the City will be preceded by an open house with displays about city projects\, activities\, and departments\, as well as displays and information provided by Colleyville community groups. The open house begins at 6:00 p.m.\, followed by the State of the City at 7:00 p.m.<br />\n	<br />\n	A review of the past year and a look at some of the city&#39\;s future initiatives will kick off the State of the City program\, with an emphasis on issues\, projects\, and developments that have had an impact on the city during the past year\, as well as a look at the year ahead. The Colleyville City Council and city staff will be available to talk with citizens and answer questions during the public Q&amp\;A session that will follow the formal presentation.<br />\n	<br />\n	For more information or to participate as a community group\, please call 817.503.1111.<span _fck_bookmark="1" style="display: none">&nbsp\;</span><o:p></o:p></span></p>\n
LOCATION:Colleyville Center 5301 Riverwalk Drive Colleyville
UID:e.642.5155
SEQUENCE:3
DTSTAMP:20260423T070721Z
URL:https://business.colleyvillechamber.org/events/details/colleyville-state-of-the-city-01-24-2013-5155
END:VEVENT

END:VCALENDAR
