BEGIN:VCALENDAR
VERSION:2.0
PRODID:-//ChamberMaster//Event Calendar 2.0//EN
METHOD:PUBLISH
X-PUBLISHED-TTL:P3D
REFRESH-INTERVAL:P3D
CALSCALE:GREGORIAN
BEGIN:VEVENT
DTSTART:20141205T230000Z
DTEND:20141206T020000Z
X-MICROSOFT-CDO-ALLDAYEVENT:FALSE
SUMMARY:Colleyville Tree Lighting Celebration
DESCRIPTION:Colleyville City Hall in the Village at Colleyville\n\n(Main Street at Colleyville Boulevard)\n\nTraditional Tree Lighting - Children's Crafts & Activities - Community Dance & Choral Groups - Photos with Santa - Carriage Rides - Market Street Holiday Fare & Beverages
X-ALT-DESC;FMTTYPE=text/html:Colleyville City Hall in the Village at Colleyville<br />\n(Main Street at Colleyville Boulevard)<br />\nTraditional Tree Lighting - Children&#39\;s Crafts &amp\; Activities - Community Dance &amp\; Choral Groups - Photos with Santa - Carriage Rides - Market Street Holiday Fare &amp\; Beverages
LOCATION:
UID:e.642.7254
SEQUENCE:3
DTSTAMP:20260421T153447Z
URL:https://business.colleyvillechamber.org/events/details/colleyville-tree-lighting-celebration-12-05-2014-7254
END:VEVENT

END:VCALENDAR
