BEGIN:VCALENDAR
VERSION:2.0
PRODID:-//ChamberMaster//Event Calendar 2.0//EN
METHOD:PUBLISH
X-PUBLISHED-TTL:P3D
REFRESH-INTERVAL:P3D
CALSCALE:GREGORIAN
BEGIN:VEVENT
DTSTART:20131003T210000Z
DTEND:20131004T010000Z
X-MICROSOFT-CDO-ALLDAYEVENT:FALSE
SUMMARY:Colleyville Vision Trunk Show!
DESCRIPTION:Colleyville Vision Associates is hosting a Trunk Show and all are welcome! Come by and enjoy food\, wine\, games\, discounts\, and prizes while browsing the latest glasses and sunglasses from top designers! Relax and have fun while shopping for the perfect pair of eyewear for you! Bring your friends and family so you can swap opinions and find the right fit. Our skilled opticians will gladly assist you in frame styling and utilizing your insurance benefits. This is the perfect time to use your HSA and FSA money! A portion of the proceeds will go to the non-profit organization Optometry Giving Sight! We want to see you there!
X-ALT-DESC;FMTTYPE=text/html:Colleyville Vision Associates is hosting a Trunk Show and all are welcome! Come by and enjoy food\, wine\, games\, discounts\, and prizes while browsing the latest glasses and sunglasses from top designers! Relax and have fun while shopping for the perfect pair of eyewear for you! Bring your friends and family so you can swap opinions and find the right fit. Our skilled opticians will gladly assist you in frame styling and utilizing your insurance benefits. This is the perfect time to use your HSA and FSA money! A portion of the proceeds will go to the non-profit organization Optometry Giving Sight! We want to see you there! 
LOCATION:Colleyville Vision Associates 1213 Hall Johnson Road Suite 300 Colleyville\, TX 76034
UID:e.642.5639
SEQUENCE:3
DTSTAMP:20260422T163251Z
URL:https://business.colleyvillechamber.org/events/details/colleyville-vision-trunk-show-10-03-2013-5639
END:VEVENT

END:VCALENDAR
