BEGIN:VCALENDAR
VERSION:2.0
PRODID:-//ChamberMaster//Event Calendar 2.0//EN
METHOD:PUBLISH
X-PUBLISHED-TTL:P3D
REFRESH-INTERVAL:P3D
CALSCALE:GREGORIAN
BEGIN:VEVENT
DTSTART:20141207T170000Z
DTEND:20141207T230000Z
X-MICROSOFT-CDO-ALLDAYEVENT:FALSE
SUMMARY:Colleyville Woman's Club 30th annual Holiday Home Tour
DESCRIPTION:
X-ALT-DESC;FMTTYPE=text/html:
LOCATION:5 Colleyville Homes & Santa's Sweet Stop at Tara Village 1101 Cheek Sparger Road
UID:e.642.7260
SEQUENCE:3
DTSTAMP:20260421T154009Z
URL:https://business.colleyvillechamber.org/events/details/colleyville-woman-s-club-30th-annual-holiday-home-tour-12-07-2014-7260
END:VEVENT

END:VCALENDAR
